Workbook

Sheet deelnemers
A1: Deelnemers
A3: Graag in dit tabblad invullen wie de deelnemers zijn en wat de kenmerken zijn van de deelnemers
C6: let op listbox | E6: let op listbox | Y6: Type organisatie | AD6: methode uurtarief | AG6: BTW
Y7: kennisinstellling - econ. activiteiten | AD7: Integrale Kosten Systematiek | AG7: kosten inclusief BTW
A8: Deelnemer | B8: Naam | C8: Type organisatie | D8: kvk nummer | E8: methode uurtarief | Y8: kennisinstellling - niet econ. activiteiten | AD8: Loonkosten plus 50% | AG8: kosten exclusief BTW
A9: Penvoerder | B9: ineke | C9: kennisinstellling - econ. activiteiten | E9: vast tarief van € 60 | Y9: Grote onderneming | AD9: vast tarief van € 60
A10: deelnemer 1 | C10: Overig | E10: WR uurtarief | Y10: MKB (midden en klein bedrijf) | AD10: Uurtarief niet-subsidie ontvangers
A11: deelnemer 2 | Y11: Belangenorganisatie | AD11: WR uurtarief
A12: deelnemer 3 | Y12: Rijksoverheid | AD12: TO2 uurtarief
A13: deelnemer 4 | Y13: Provincie
A14: deelnemer 5 | Y14: Regio
A15: deelnemer 6 | Y15: gemeente
A16: deelnemer 7 | Y16: EU
A17: deelnemer 8 | Y17: anders, overheid
A18: deelnemer 9 | Y18: ANBI
A19: deelnemer 10 | Y19: Overig
A20: deelnemer 11
A21: deelnemer 12
A22: deelnemer 13
A26: Let op: | B26: Alle kosten worden exclusief BTW opgevoerd in deze begroting
B27: Partijen die de BTW niet kunnen verrekenen met de belastingdienst én PPS toeslag aanvragen
B28: kunnen bij de definitieve begroting behorend bij de Consortoum Agreement deze BTW alsnog nog opvoeren

Sheet kostenoverzicht
A1: Samenvatting kosten en financiering
A2: Deze tabel kunt u kopiëren naar het projectvoorstel.
A3: Let op: totale kosten en totale financiering zijn aan elkaar gelijk
A4: Deze tabel vult zich vanuit de andere tabbladen. U hoeft niets in te vullen, svp ook niets wijzigen.
A6: Kosten | F6: 2024 | G6: 2025 | H6: 2026 | I6: 2027 | J6: totaal
F7: in €
A8: kosten onderzoeksorganisaties (uit tabel 2a) | F8: ='2a kosten onderzoeksorganisatie'!D44 -> 0 | G8: ='2a kosten onderzoeksorganisatie'!F44 -> 0 | H8: ='2a kosten onderzoeksorganisatie'!H44 -> 0 | I8: ='2a kosten onderzoeksorganisatie'!J44 -> 0 | J8: =SUM(F8:I8) -> 0
A9: kosten overige partners (uit tabel 2b) | F9: ='2b kosten overige partners'!D44 -> 0 | G9: ='2b kosten overige partners'!F44 -> 0 | H9: ='2b kosten overige partners'!H44 -> 0 | I9: ='2b kosten overige partners'!J44 -> 0 | J9: =SUM(F9:I9) -> 0
A10: Totaal kosten | F10: =SUM(F8:F9) -> 0 | G10: =SUM(G8:G9) -> 0 | H10: =SUM(H8:H9) -> 0 | I10: =SUM(I8:I9) -> 0 | J10: =SUM(J8:J9) -> 0
A12: Financiering | K12: Checks
A13: Cofinanciering | F13: =F6 -> 2024 | G13: =G6 -> 2025 | H13: =H6 -> 2026 | I13: =I6 -> 2027 | J13: totaal
A14: In kind bijdrage private partners (uit tabel 3a) | F14: ='3a in kind private partners'!C44 -> 0 | G14: ='3a in kind private partners'!E44 -> 0 | H14: ='3a in kind private partners'!G44 -> 0 | I14: ='3a in kind private partners'!I44 -> 0 | J14: =SUM(F14:I14) -> 0
A15: In kind bijdrage publieke partners (uit tabel 3b) | F15: ='3b in kind onderzoeksorg.'!C44 -> 0 | G15: ='3b in kind onderzoeksorg.'!E44 -> 0 | H15: ='3b in kind onderzoeksorg.'!G44 -> 0 | I15: ='3b in kind onderzoeksorg.'!I44 -> 0 | J15: =SUM(F15:I15) -> 0
A16: Cash bijdrage private partners (uit tabel 3c) | F16: ='3c private cash bijdrage'!D13 -> 0 | G16: ='3c private cash bijdrage'!E13 -> 0 | H16: ='3c private cash bijdrage'!F13 -> 0 | I16: ='3c private cash bijdrage'!G13 -> 0 | J16: =SUM(F16:I16) -> 0 | K16: Groen: Voldoet aan de eis van minimaal 5% private cash; rood voldoet niet aan deze eis. Zoek meer private cash
A17: Cash bijdrage publieke partners (uit tabel 3d) | F17: ='3d publieke cash bijdrage '!D13 -> 0 | G17: ='3d publieke cash bijdrage '!E13 -> 0 | H17: ='3d publieke cash bijdrage '!F13 -> 0 | I17: ='3d publieke cash bijdrage '!G13 -> 0 | J17: =SUM(F17:I17) -> 0 | K17: =J15+J17/J10 -> #DIV/0! | L17: =Percentage publieke cofinanciering. Let op: maximum toegestaan percentage is afhankelijk van financieringsvariant (zie tekst PPS-oproep).
A18: Totaal cofinanciering | F18: =SUM(F14:F17) -> 0 | G18: =SUM(G14:G17) -> 0 | H18: =SUM(H14:H17) -> 0 | I18: =SUM(I14:I17) -> 0 | J18: =SUM(F18:I18) -> 0
A20: Gevraagde publieke bijdrage | F20: =F13 -> 2024 | G20: =G13 -> 2025 | H20: =H13 -> 2026 | I20: =I13 -> 2027 | J20: totaal
A21: gevraagde WR capaciteit/TO2 bijdrage (tabel 3e) | F21: ='3e gevraagde publieke bijdrage'!D12 -> 0 | G21: ='3e gevraagde publieke bijdrage'!E12 -> 0 | H21: ='3e gevraagde publieke bijdrage'!F12 -> 0 | I21: ='3e gevraagde publieke bijdrage'!G12 -> 0 | J21: =SUM(F21:I21) -> 0
A22: gevraagde PPS toeslag (uit tabel 3e) | F22: ='3e gevraagde publieke bijdrage'!D22 -> 0 | G22: ='3e gevraagde publieke bijdrage'!E22 -> 0 | H22: ='3e gevraagde publieke bijdrage'!F22 -> 0 | I22: ='3e gevraagde publieke bijdrage'!G22 -> 0 | J22: =SUM(F22:I22) -> 0
A23: Totaal gevraagde publieke bijdrage | F23: =SUM(F21:F22) -> 0 | G23: =SUM(G21:G22) -> 0 | H23: =SUM(H21:H22) -> 0 | I23: =SUM(I21:I22) -> 0 | J23: =SUM(F23:I23) -> 0 | K23: =J23/J10 -> #DIV/0! | L23: =Percentage publieke bijdrage. Let op: Maximaal gevraagde bijdrage is afhankelijk van financieringsvariant (zie tekst PPS-oproep).
A25: Totale cash in het project | J25: =J16+J17+J23 -> 0 | K25: Groen: Voldoet aan de eis van 75% cash bijdrage, rood; voldoet niet aan de 75% cash bijdrage. Vervang in kind door cash
A27: Totaal financiering | F27: =F18+F23 -> 0 | G27: =G18+G23 -> 0 | H27: =H18+H23 -> 0 | I27: =I18+I23 -> 0 | J27: =J18+J23 -> 0 | K27: Groen: Kosten en opbrengsten zijn aan elkaar gelijk; rood kosten en opbrengsten zijnnniet aan elkaar gelijk. Check in kind of cash

Sheet 2a kosten onderzoeksorganisatie
A1: Tabel 2a. Projectbegroting onderzoeksorganisaties
A2: In deze tabel vult u de projectkosten in. Specificeer hierbij de kosten van de onderzoeksorganisaties in euro’s
A3: en maak daarbij ook het onderscheid in de kosten personeel, overige kosten en kosten investeringen
A4: U vult alleen de witte vakken in. Wilt u rijen toevoegen dan graag op de laatse regel van de categorie gaan staan en een regel erboven toevoegen
D8: Kosten in € EXCLUSIEF BTW
D9: =kostenoverzicht!F6 -> 2024 | F9: =kostenoverzicht!G6 -> 2025 | H9: =kostenoverzicht!H6 -> 2026 | J9: =kostenoverzicht!I6 -> 2027 | L9: Totaal
B10: Personeelskosten | D10: in k €
B11: kennisinstelling | C11: functie personeel | D11: Kosten | F11: Kosten | H11: Kosten | J11: Kosten
C12: aap | D12: 0 | F12: 0 | H12: 0 | J12: 0 | L12: =D12*E12+F12*G12+H12*I12+J12*K12 -> 0
D13: 0 | F13: 0 | H13: 0 | J13: 0 | L13: =D13*E13+F13*G13+H13*I13+J13*K13 -> 0
D14: 0 | F14: 0 | H14: 0 | J14: 0 | L14: =D14*E14+F14*G14+H14*I14+J14*K14 -> 0
D15: 0 | F15: 0 | H15: 0 | J15: 0 | L15: =D15*E15+F15*G15+H15*I15+J15*K15 -> 0
D16: 0 | F16: 0 | H16: 0 | J16: 0 | L16: =D16*E16+F16*G16+H16*I16+J16*K16 -> 0
D17: 0 | F17: 0 | H17: 0 | J17: 0 | L17: =D17*E17+F17*G17+H17*I17+J17*K17 -> 0
D18: 0 | F18: 0 | H18: 0 | J18: 0 | L18: =D18*E18+F18*G18+H18*I18+J18*K18 -> 0
D19: 0 | F19: 0 | H19: 0 | J19: =-J190 -> 0 | L19: =D19*E19+F19*G19+H19*I19+J19*K19 -> 0
D20: 0 | F20: 0 | H20: 0 | J20: 0 | L20: =D20*E20+F20*G20+H20*I20+J20*K20 -> 0
B21: Totaal personeel | D21: =SUM(D12:E20) -> 0 | F21: =SUM(F12:G20) -> 0 | H21: =SUM(H12:I20) -> 0 | J21: =SUM(J12:K20) -> 0 | L21: =SUM(L12:L20) -> 0
B22: Investeringen op basis van afschrijving en directe relatie met project
B23: kennisinstelling | C23: omschrijving | D23: =D9 -> 2024 | F23: =F9 -> 2025 | H23: =H9 -> 2026 | J23: =J9 -> 2027
D24: 0 | F24: 0 | H24: 0 | J24: 0 | L24: =SUM(D24:K24) -> 0
L25: =SUM(D25:K25) -> 0
L26: =SUM(D26:K26) -> 0
B27: Totaal investeringen | E27: =SUM(D24:E26) -> 0 | F27: =SUM(E24:F26) -> 0 | G27: =SUM(F24:G26) -> 0 | H27: =SUM(G24:H26) -> 0 | I27: =SUM(H24:I26) -> 0 | J27: =SUM(I24:J26) -> 0 | K27: =SUM(J24:K26) -> 0 | L27: =SUM(L24:L26) -> 0
C28: Overige kosten
B29: kennisinstelling | C29: Omschrijving | D29: =D23 -> 2024 | F29: =F23 -> 2025 | H29: =H23 -> 2026 | J29: =J23 -> 2027
D30: 0 | F30: 0 | H30: 0 | J30: 0 | L30: =SUM(D30:K30) -> 0
L31: =SUM(D31:K31) -> 0
L32: =SUM(D32:K32) -> 0
L33: =SUM(D33:K33) -> 0
L34: =SUM(D34:K34) -> 0
L35: =SUM(D35:K35) -> 0
L36: =SUM(D36:K36) -> 0
L37: =SUM(D37:K37) -> 0
L38: =SUM(D38:K38) -> 0
L39: =SUM(D39:K39) -> 0
L40: =SUM(D40:K40) -> 0
L41: =SUM(D41:K41) -> 0
B42: Totaal overige kosten | D42: =SUM(D30:E41) -> 0 | F42: =SUM(F30:G41) -> 0 | H42: =SUM(H30:I41) -> 0 | J42: =SUM(J30:K41) -> 0 | L42: =SUM(L30:L41) -> 0
B44: Totale kosten | D44: =D21+E27+D42 -> 0 | F44: =F21+G27+F42 -> 0 | H44: =H21+I27+H42 -> 0 | J44: =J21+K27+J42 -> 0 | L44: =SUM(L21+L27+L42) -> 0

Sheet 2b kosten overige partners
A1: Tabel 2b. Projectbegroting overige partners
A2: In deze tabel vult u de projectkosten van de overige partners. Specificeer hierbij de kosten in euro’s
A3: en maak daarbij ook het onderscheid in de kosten personeel, overige kosten en kosten investeringen
D8: Kosten in € EXCLUSIEF BTW
D9: =kostenoverzicht!F6 -> 2024 | F9: =kostenoverzicht!G6 -> 2025 | H9: =kostenoverzicht!H6 -> 2026 | J9: =kostenoverzicht!I6 -> 2027 | L9: Totaal
B10: Personeelskosten | D10: in k €
B11: Partner | C11: functie personeel | D11: kosten | F11: kosten | H11: kosten | J11: kosten
C12: noot | D12: 0 | F12: 0 | H12: 0 | J12: 0 | L12: =D12*E12+F12*G12+H12*I12+J12*K12 -> 0
D13: 0 | F13: 0 | H13: 0 | J13: 0 | L13: =D13*E13+F13*G13+H13*I13+J13*K13 -> 0
D14: 0 | F14: 0 | H14: 0 | J14: 0 | L14: =D14*E14+F14*G14+H14*I14+J14*K14 -> 0
D15: 0 | F15: 0 | H15: 0 | J15: 0 | L15: =D15*E15+F15*G15+H15*I15+J15*K15 -> 0
D16: 0 | F16: 0 | H16: 0 | J16: 0 | L16: =D16*E16+F16*G16+H16*I16+J16*K16 -> 0
D17: 0 | F17: 0 | H17: 0 | J17: 0 | L17: =D17*E17+F17*G17+H17*I17+J17*K17 -> 0
D18: 0 | F18: 0 | H18: 0 | J18: 0 | L18: =D18*E18+F18*G18+H18*I18+J18*K18 -> 0
D19: 0 | F19: 0 | H19: 0 | J19: 0 | L19: =D19*E19+F19*G19+H19*I19+J19*K19 -> 0
D20: 0 | F20: 0 | H20: 0 | J20: 0 | L20: =D20*E20+F20*G20+H20*I20+J20*K20 -> 0
B21: Totaal personeel | D21: =SUM(D12:E20) -> 0 | F21: =SUM(F12:G20) -> 0 | H21: =SUM(H12:I20) -> 0 | J21: =SUM(J12:K20) -> 0 | L21: =SUM(L12:L20) -> 0
B22: Investeringen op basis van afschrijving en directe relatie met project
B23: Partner | C23: omschrijving | D23: =D9 -> 2024 | F23: =F9 -> 2025 | H23: =H9 -> 2026 | J23: =J9 -> 2027
D24: 0 | F24: 0 | H24: 0 | J24: 0 | L24: =SUM(D24:K24) -> 0
L25: =SUM(D25:K25) -> 0
L26: =SUM(D26:K26) -> 0
B27: Totaal investeringen | E27: =SUM(D24:E26) -> 0 | F27: =SUM(E24:F26) -> 0 | G27: =SUM(F24:G26) -> 0 | H27: =SUM(G24:H26) -> 0 | I27: =SUM(H24:I26) -> 0 | J27: =SUM(I24:J26) -> 0 | K27: =SUM(J24:K26) -> 0 | L27: =SUM(L24:L26) -> 0
C28: Overige kosten
B29: Partner | C29: Omschrijving | D29: =D23 -> 2024 | F29: =F23 -> 2025 | H29: =H23 -> 2026 | J29: =J23 -> 2027
D30: 0 | F30: 0 | H30: 0 | J30: 0 | L30: =SUM(D30:K30) -> 0
L31: =SUM(D31:K31) -> 0
L32: =SUM(D32:K32) -> 0
L33: =SUM(D33:K33) -> 0
L34: =SUM(D34:K34) -> 0
L35: =SUM(D35:K35) -> 0
L36: =SUM(D36:K36) -> 0
L37: =SUM(D37:K37) -> 0
L38: =SUM(D38:K38) -> 0
L39: =SUM(D39:K39) -> 0
L40: =SUM(D40:K40) -> 0
L41: =SUM(D41:K41) -> 0
B42: Totaal overige kosten | D42: =SUM(D30:E41) -> 0 | F42: =SUM(F30:G41) -> 0 | H42: =SUM(H30:I41) -> 0 | J42: =SUM(J30:K41) -> 0 | L42: =SUM(L30:L41) -> 0
B44: Totale kosten | D44: =D21+E27+D42 -> 0 | F44: =F21+G27+F42 -> 0 | H44: =H21+I27+H42 -> 0 | J44: =J21+K27+J42 -> 0 | L44: =SUM(L21+L27+L42) -> 0

Sheet 3a in kind private partners
A1: Tabel 3a. In kind bijdrage private partners
A3: In kind bijdragen dienen te worden uitgesplitst per jaar en per partner.
A4: De juiste wijze van berekenen van de waarde van in-kind bijdragen is weergegeven in de (bijlage van) de calltekst.
C8: Kosten in € EXCLUSIEF BTW
C9: =kostenoverzicht!F6 -> 2024 | E9: =kostenoverzicht!G6 -> 2025 | G9: =kostenoverzicht!H6 -> 2026 | I9: =kostenoverzicht!I6 -> 2027 | K9: Totaal
B10: Personeelskosten | C10: in k €
B11: partners | C11: kosten | E11: kosten | G11: kosten | I11: kosten
B12: partner 1 | C12: 0 | E12: 0 | G12: 0 | I12: 0 | K12: =C12*D12+E12*F12+G12*H12+I12*J12 -> 0
C13: 0 | E13: 0 | G13: 0 | I13: 0 | K13: =C13*D13+E13*F13+G13*H13+I13*J13 -> 0
C14: 0 | E14: 0 | G14: 0 | I14: 0 | K14: =C14*D14+E14*F14+G14*H14+I14*J14 -> 0
C15: 0 | E15: 0 | G15: 0 | I15: 0 | K15: =C15*D15+E15*F15+G15*H15+I15*J15 -> 0
C16: 0 | E16: 0 | G16: 0 | I16: 0 | K16: =C16*D16+E16*F16+G16*H16+I16*J16 -> 0
C17: 0 | E17: 0 | G17: 0 | I17: 0 | K17: =C17*D17+E17*F17+G17*H17+I17*J17 -> 0
C18: 0 | E18: 0 | G18: 0 | I18: 0 | K18: =C18*D18+E18*F18+G18*H18+I18*J18 -> 0
C19: 0 | E19: 0 | G19: 0 | I19: 0 | K19: =C19*D19+E19*F19+G19*H19+I19*J19 -> 0
C20: 0 | E20: 0 | G20: 0 | I20: 0 | K20: =C20*D20+E20*F20+G20*H20+I20*J20 -> 0
B21: Totaal personeel | C21: =SUM(C12:D20) -> 0 | E21: =SUM(E12:F20) -> 0 | G21: =SUM(G12:H20) -> 0 | I21: =SUM(I12:J20) -> 0 | K21: =SUM(K12:K20) -> 0
B22: Investeringen op basis van afschrijving en directe relatie met project
B23: Partner | C23: =C9 -> 2024 | E23: =E9 -> 2025 | G23: =G9 -> 2026 | I23: =I9 -> 2027
C24: 0 | E24: 0 | G24: 0 | I24: 0 | K24: =SUM(C24:J24) -> 0
K25: =SUM(C25:J25) -> 0
K26: =SUM(C26:J26) -> 0
B27: Totaal investeringen | C27: =SUM(C24:D26) -> 0 | E27: =SUM(D24:E26) -> 0 | G27: =SUM(F24:G26) -> 0 | I27: =SUM(H24:I26) -> 0 | K27: =SUM(K24:K26) -> 0
B29: Overige kosten
B30: Omschrijving | C30: =C23 -> 2024 | E30: =E23 -> 2025 | G30: =G23 -> 2026 | I30: =I23 -> 2027
B31: partner 1 | C31: 0 | E31: 0 | G31: 0 | I31: 0 | K31: =SUM(C31:J31) -> 0
B32: partner | E32: 0 | K32: =SUM(C32:J32) -> 0
K33: =SUM(C33:J33) -> 0
K34: =SUM(C34:J34) -> 0
K35: =SUM(C35:J35) -> 0
K36: =SUM(C36:J36) -> 0
K37: =SUM(C37:J37) -> 0
K38: =SUM(C38:J38) -> 0
K39: =SUM(C39:J39) -> 0
K40: =SUM(C40:J40) -> 0
K41: =SUM(C41:J41) -> 0
K42: =SUM(C42:J42) -> 0
B43: Totaal overige kosten | C43: =SUM(C31:D42) -> 0 | E43: =SUM(E31:F42) -> 0 | G43: =SUM(G31:H42) -> 0 | I43: =SUM(I31:J42) -> 0 | K43: =SUM(K31:K42) -> 0
B44: Totale kosten | C44: =C21+C27+C43 -> 0 | E44: =E21+E27+E43 -> 0 | G44: =G21+G27+G43 -> 0 | I44: =I21+I27+I43 -> 0 | K44: =K21+K27+K43 -> 0

Sheet 3b in kind onderzoeksorg.
A1: Tabel 3b. In kind bijdrage publieke partners
A3: In kind bijdragen dienen te worden uitgesplitst per jaar en per partner.
A4: De juiste wijze van berekenen van de waarde van in-kind bijdragen is weergegeven in de (bijlage van) de calltekst.
C8: Kosten in € EXCLUSIEF BTW
C9: =kostenoverzicht!F6 -> 2024 | E9: =kostenoverzicht!G6 -> 2025 | G9: =kostenoverzicht!H6 -> 2026 | I9: =kostenoverzicht!I6 -> 2027 | K9: Totaal
B10: Personeelskosten | C10: in k €
B11: partners | C11: kosten | E11: kosten | G11: kosten | I11: kosten
B12: partner 1 | C12: 0 | E12: 0 | G12: 0 | I12: 0 | K12: =C12*D12+E12*F12+G12*H12+I12*J12 -> 0
C13: 0 | E13: 0 | G13: 0 | I13: 0 | K13: =C13*D13+E13*F13+G13*H13+I13*J13 -> 0
C14: 0 | E14: 0 | G14: 0 | I14: 0 | K14: =C14*D14+E14*F14+G14*H14+I14*J14 -> 0
C15: 0 | E15: 0 | G15: 0 | I15: 0 | K15: =C15*D15+E15*F15+G15*H15+I15*J15 -> 0
C16: 0 | E16: 0 | G16: 0 | I16: 0 | K16: =C16*D16+E16*F16+G16*H16+I16*J16 -> 0
C17: 0 | E17: 0 | G17: 0 | I17: 0 | K17: =C17*D17+E17*F17+G17*H17+I17*J17 -> 0
C18: 0 | E18: 0 | G18: 0 | I18: 0 | K18: =C18*D18+E18*F18+G18*H18+I18*J18 -> 0
C19: 0 | E19: 0 | G19: 0 | I19: 0 | K19: =C19*D19+E19*F19+G19*H19+I19*J19 -> 0
C20: 0 | E20: 0 | G20: 0 | I20: 0 | K20: =C20*D20+E20*F20+G20*H20+I20*J20 -> 0
B21: Totaal personeel | C21: =SUM(C12:D20) -> 0 | E21: =SUM(E12:F20) -> 0 | G21: =SUM(G12:H20) -> 0 | I21: =SUM(I12:J20) -> 0 | K21: =SUM(K12:K20) -> 0
B22: Investeringen op basis van afschrijving en directe relatie met project
B23: Partner | C23: =C9 -> 2024 | E23: =E9 -> 2025 | G23: =G9 -> 2026 | I23: =I9 -> 2027
C24: 0 | E24: 0 | G24: 0 | I24: 0 | K24: =SUM(C24:J24) -> 0
K25: =SUM(C25:J25) -> 0
K26: =SUM(C26:J26) -> 0
B27: Totaal investeringen | C27: =SUM(C24:D26) -> 0 | E27: =SUM(D24:E26) -> 0 | G27: =SUM(F24:G26) -> 0 | I27: =SUM(H24:I26) -> 0 | K27: =SUM(K24:K26) -> 0
B29: Overige kosten
B30: Omschrijving | C30: =C23 -> 2024 | E30: =E23 -> 2025 | G30: =G23 -> 2026 | I30: =I23 -> 2027
B31: partner 1 | C31: 0 | E31: 0 | G31: 0 | K31: =SUM(C31:J31) -> 0
B32: partner | E32: 0 | K32: =SUM(C32:J32) -> 0
K33: =SUM(C33:J33) -> 0
K34: =SUM(C34:J34) -> 0
K35: =SUM(C35:J35) -> 0
K36: =SUM(C36:J36) -> 0
K37: =SUM(C37:J37) -> 0
K38: =SUM(C38:J38) -> 0
K39: =SUM(C39:J39) -> 0
K40: =SUM(C40:J40) -> 0
K41: =SUM(C41:J41) -> 0
K42: =SUM(C42:J42) -> 0
B43: Totaal overige kosten | C43: =SUM(C31:D42) -> 0 | E43: =SUM(E31:F42) -> 0 | G43: =SUM(G31:H42) -> 0 | I43: =SUM(I31:J42) -> 0 | K43: =SUM(K31:K42) -> 0
B44: Totale kosten | C44: =C21+C27+C43 -> 0 | E44: =E21+E27+E43 -> 0 | G44: =G21+G27+G43 -> 0 | I44: =I21+I27+I43 -> 0 | K44: =K21+K27+K43 -> 0

Sheet 3c private cash bijdrage
B1: Tabel 3c. In cash bijdrage per private partner
B2: Geef in onderstaande tabel weer welke cash bijdragen door welke partners worden betaald.
B3: en geef aan voor welek patner die bijdrage is bestemd
B5: Naam Partner van wie de cash komt | C5: naam partner naar wie de cash gaat | D5: Waarde in cash bijdrage (€)
D6: ='2a kosten onderzoeksorganisatie'!D9 -> 2024 | E6: ='2a kosten onderzoeksorganisatie'!F9 -> 2025 | F6: ='2a kosten onderzoeksorganisatie'!H9 -> 2026 | G6: =kostenoverzicht!I6 -> 2027 | H6: Totaal
D7: 0 | E7: 0 | F7: 0 | G7: 0 | H7: =SUM(D7:G7) -> 0
H8: =SUM(D8:G8) -> 0
H9: =SUM(D9:G9) -> 0
H10: =SUM(D10:G10) -> 0
H11: =SUM(D11:G11) -> 0
H12: =SUM(D12:G12) -> 0
B13: TOTAAL excl. BTW | D13: =SUM(D7:D12) -> 0 | E13: =SUM(E7:E12) -> 0 | F13: =SUM(F7:F12) -> 0 | G13: =SUM(G7:G12) -> 0 | H13: =SUM(H7:H12) -> 0

Sheet 3d publieke cash bijdrage 
B1: Tabel 3d. In cash bijdrage per publieke partner
B2: Geef in onderstaande tabel weer welke cash bijdragen door welke partners worden betaald.
B3: en geef aan voor welek patner die bijdrage is bestemd
B5: Naam Partner van wie de cash komt | C5: naam partner naar wie de cash gaat | D5: Waarde in cash bijdrage (€)
D6: ='2a kosten onderzoeksorganisatie'!D9 -> 2024 | E6: ='2a kosten onderzoeksorganisatie'!F9 -> 2025 | F6: ='2a kosten onderzoeksorganisatie'!H9 -> 2026 | G6: =kostenoverzicht!I6 -> 2027 | H6: Totaal
D7: 0 | E7: 0 | F7: 0 | H7: =SUM(D7:G7) -> 0
H8: =SUM(D8:G8) -> 0
H9: =SUM(D9:G9) -> 0
H10: =SUM(D10:G10) -> 0
H11: =SUM(D11:G11) -> 0
H12: =SUM(D12:G12) -> 0
B13: TOTAAL excl. BTW | D13: =SUM(D7:D12) -> 0 | E13: =SUM(E7:E12) -> 0 | F13: =SUM(F7:F12) -> 0 | G13: =SUM(G7:G12) -> 0 | H13: =SUM(H7:H12) -> 0

Sheet 3e gevraagde publieke  bijdrage
B1: Tabel 3e. Gevraagde publieke bijdrage
B2: Geef in onderstaande tabel aan welke bijdrage u vraagt vanuit welke subsidie
B4: Gevraagde WR Capaciteit/TO2 bijdrage | C4: naar welke partij gaat de publieke bijdrage | D4: Waarde in cash bijdrage (€)
D5: ='2a kosten onderzoeksorganisatie'!D9 -> 2024 | E5: ='2a kosten onderzoeksorganisatie'!F9 -> 2025 | F5: ='2a kosten onderzoeksorganisatie'!H9 -> 2026 | G5: =kostenoverzicht!I6 -> 2027 | H5: Totaal
D6: 0 | E6: 0 | F6: 0 | H6: =SUM(D6:G6) -> 0
D7: 0 | G7: 0 | H7: =SUM(D7:G7) -> 0
H8: =SUM(D8:G8) -> 0
H9: =SUM(D9:G9) -> 0
H10: =SUM(D10:G10) -> 0
H11: =SUM(D11:G11) -> 0
B12: TOTAAL (excl. BTW) | D12: =SUM(D6:D11) -> 0 | E12: =SUM(E6:E11) -> 0 | F12: =SUM(F6:F11) -> 0 | G12: =SUM(G6:G11) -> 0 | H12: =SUM(H6:H11) -> 0
B14: Gevraagde PPS toeslag | C14: naar welke partij gaat de publieke bijdrage | D14: Waarde in cash bijdrage (k€)
D15: =D5 -> 2024 | E15: =E5 -> 2025 | F15: =F5 -> 2026 | G15: =G5 -> 2027 | H15: Totaal
D16: 0 | E16: 0 | F16: 0 | G16: 0 | H16: =SUM(D16:G16) -> 0
D17: 0 | G17: 0 | H17: =SUM(D17:G17) -> 0
H18: =SUM(D18:G18) -> 0
H19: =SUM(D19:G19) -> 0
H20: =SUM(D20:G20) -> 0
H21: =SUM(D21:G21) -> 0
B22: TOTAAL (excl. BTW) | D22: =SUM(D16:D21) -> 0 | E22: =SUM(E16:E21) -> 0 | F22: =SUM(F16:F21) -> 0 | G22: =SUM(G16:G21) -> 0 | H22: =SUM(H16:H21) -> 0

Sheet toelichting kostensoorten
A1: Uitleg posten Begroting PPS Toeslag
A4: Algemeen
A5: PPS toeslag wordt uitsluitend verkregen op onderzoek in een private publieke samenwerking
A7: Voor meer informatie: | D7: https://www.rvo.nl/subsidie-en-financieringswijzer/subsidiespelregels/ministeries/ministerie-van-economische-zaken-en-klimaat
A9: A1a Loonkosten
A10: 1. Integrale kostensystematiek (artikel 12 van het Kaderbesluit Nationale EZ-subsidies)
A11: Deze methode is vooral geschikt voor grote organisaties die regelmatig subsidie bij RVO aanvragen.
A12: De IKS methode dient goedgekeurd te zijn door RvO.
A14: 2. Loonkosten + 50% opslag systematiek, (artikel 13 van het Kaderbesluit Nationale EZ-subsidies);
A15: De directe loonkosten van projectmedewerkers wordt opgevoerd en vermeerderd met 50% opslag.
A16: Directe kosten bestaan uit de direct toerekenbare kosten aan de medewerker die het onderzoek uitvoert zoals bruto salaris, werkgeverslasten, pensioen
A17: lasten, bonussen (mist vastgelegd in de arbeidsovereenkomst), etc.
A18: De jaarkosten worden door 1650 uren gedeeld om het uurtarief te krijgen
A19: 3. Vast uurtarief van €60,00 (artikel 14 van het Kaderbesluit Nationale EZ-subsidies).
A20: Een vast uurtarief van € 60,00 per uur.
A21: Let op!
... A73: De volgende kosten zijn in ieder geval niet subsidiabel:
A74: l | B74: Kosten accountant om de controleverklaring op te stellen.
A75: l | B75: Kosten voor (administratief) projectmanagement, zoals voortgang monitoring, contracten opstellen tussen samenwerkingspartijen, de voortgangs-
B76: rapportages voor RVO, planning, budgettering, escaleren naar stuurgroep, projectbesturing, projectbewaking.
A77: l | B77: Kosten voor binnenlandse reiskosten.
A78: l | B78: Kosten voor kennisverspreidingsactiviteiten, omdat kennisverspreiding niet past binnen de definitie van onderzoek en ontwikkeling. In een aantal
B79: TSE-subsidiemodules is onvoldoende kennisverspreiding overigens wel een afwijzingsgrond of een reden om lager te scoren op de rangschikkingscriteria.
